BEGIN:VCALENDAR
PRODID:-//SMW Project//Semantic Result Formats
VERSION:2.0
METHOD:PUBLISH
X-WR-CALNAME:LOMSO
X-WR-CALDESC:
BEGIN:VEVENT
SUMMARY:Buergerfest Ottobrunn 2011
URL:http://www.lug-ottobrunn.de/wiki/Buergerfest_Ottobrunn_2011
UID:http://www.lug-ottobrunn.de/wiki/Buergerfest_Ottobrunn_2011
DTSTART:20110910T110000
DTEND:20110910T190000
LOCATION:Ottobrunn
DTSTAMP:20140530T103523
SEQUENCE:2475
END:VEVENT
END:VCALENDAR
