BEGIN:VCALENDAR
PRODID:-//SMW Project//Semantic Result Formats
VERSION:2.0
METHOD:PUBLISH
X-WR-CALNAME:LOMSO
X-WR-CALDESC:
BEGIN:VEVENT
SUMMARY:396. Treffen
URL:http://www.lug-ottobrunn.de/wiki/396._Treffen
UID:http://www.lug-ottobrunn.de/wiki/396._Treffen
DTSTART:20200127T200000
DTEND:20200127T235900
LOCATION:Tegernseer Alm
DTSTAMP:20191029T142855
SEQUENCE:3318
END:VEVENT
END:VCALENDAR
