BEGIN:VCALENDAR
PRODID:-//SMW Project//Semantic Result Formats
VERSION:2.0
METHOD:PUBLISH
X-WR-CALNAME:LOMSO
X-WR-CALDESC:
BEGIN:VEVENT
SUMMARY:244. Treffen
URL:http://www.lug-ottobrunn.de/wiki/244._Treffen
UID:http://www.lug-ottobrunn.de/wiki/244._Treffen
DTSTART:20131111T200000
DTEND:20131111T235900
LOCATION:Ayinger
DTSTAMP:20131108T224911
SEQUENCE:2018
END:VEVENT
END:VCALENDAR
